BEGIN:VCALENDAR
VERSION:2.0
PRODID:-//Antiochia - ECPv6.15.18//NONSGML v1.0//EN
CALSCALE:GREGORIAN
METHOD:PUBLISH
X-ORIGINAL-URL:https://antiochia.pl
X-WR-CALDESC:Wydarzenia dla Antiochia
REFRESH-INTERVAL;VALUE=DURATION:PT1H
X-Robots-Tag:noindex
X-PUBLISHED-TTL:PT1H
BEGIN:VTIMEZONE
TZID:Europe/Warsaw
BEGIN:DAYLIGHT
TZOFFSETFROM:+0100
TZOFFSETTO:+0200
TZNAME:CEST
DTSTART:20190331T010000
END:DAYLIGHT
BEGIN:STANDARD
TZOFFSETFROM:+0200
TZOFFSETTO:+0100
TZNAME:CET
DTSTART:20191027T010000
END:STANDARD
BEGIN:DAYLIGHT
TZOFFSETFROM:+0100
TZOFFSETTO:+0200
TZNAME:CEST
DTSTART:20200329T010000
END:DAYLIGHT
BEGIN:STANDARD
TZOFFSETFROM:+0200
TZOFFSETTO:+0100
TZNAME:CET
DTSTART:20201025T010000
END:STANDARD
BEGIN:DAYLIGHT
TZOFFSETFROM:+0100
TZOFFSETTO:+0200
TZNAME:CEST
DTSTART:20210328T010000
END:DAYLIGHT
BEGIN:STANDARD
TZOFFSETFROM:+0200
TZOFFSETTO:+0100
TZNAME:CET
DTSTART:20211031T010000
END:STANDARD
END:VTIMEZONE
BEGIN:VEVENT
DTSTART;TZID=Europe/Warsaw:20200613T180000
DTEND;TZID=Europe/Warsaw:20200613T200000
DTSTAMP:20260420T004824
CREATED:20200526T110037Z
LAST-MODIFIED:20200526T110037Z
UID:4665-1592071200-1592078400@antiochia.pl
SUMMARY:Nauczanie Bogdana Olechnowicza 13-14 czerwca
DESCRIPTION:Zapraszamy na nauczanie Bogdana Olechnowicza w sobotę 13 czerwca o godzinie 18:00. Spotkanie odbędzie się w budynku Antiochii. \nKonieczne jest zgłoszenie swojej obecności tak\, jak w przypadku nabożeństwa niedzielnego. \nDodatkowe informacje znajdują we wpisie: https://antiochia.pl/nauczanie-bogdan-olechnowicz/ \n 
URL:https://antiochia.pl/event/nauczanie-bogdana-olechnowicza-13-14-czerwca/
LOCATION:Zbór Antiochia\, Powstańców Śląskich 199\, Wrocław\, 53-140\, Polska
CATEGORIES:Spotkanie
ATTACH;FMTTYPE=image/jpeg:https://antiochia.pl/wp-content/uploads/2020/05/Bogdan_Olechnowicz_1.jpg
END:VEVENT
END:VCALENDAR